BEGIN:VCALENDAR
VERSION:2.0
PRODID:-//hacksw/handcal//NONSGML v1.0//EN
BEGIN:VEVENT
SUMMARY:Stage jeune (Avril 2026)
UID:7b725976-b518-412e-b180-ea04d33d076c
DTSTART:20260413T060000Z
DTEND:20260414T160000Z
LOCATION:Localisation rue de la Moselle (Gymnase Lafontaine) 54304 Laxou
CATEGORIES:Stage
STATUS:
DESCRIPTION:<p>Le Comite Departemental de Badminton de
 Meurthe-et-Moselle (54) a le plaisir de vous informer de
 l’<strong>organisation d’un stage de badminton a destination des
 jeunes licencies ages de 8 a 14 ans</strong>.<br>
 <br>
 Ce stage se
 deroulera sur deux journees, <strong>le lundi 13 avril et le mardi 14
 avril</strong>, de <strong>8h a 18h, au gymnase Lafontaine</strong>,
 rue de la Moselle a Laxou (a proximite du College
 Lafontaine).<br>
 <br>
 <br>
 Au programme : perfectionnement technique,
 ateliers ludiques et temps de jeu encadres, dans une ambiance
 conviviale et sportive.<br>
 <strong>Le repas du midi sera tire du
 sac.</strong><br>
 <strong>Les participants sont egalement invites a
 apporter des jeux de societe pour les temps
 calmes.</strong><br>
 <br>
 Le stage sera encadre par un entraineur
 diplome.<br>
 Une atmosphere bienveillante et dynamiques permettra aux
 enfants de progresser tout en prenant plaisir a jouer.<br>
 <br>
 Ce
 stage est gratuit.<br>
 <br>
 Pour information, voici les prochaines
 dates des stages pour cette saison :<br>
 <br>
 - 2 et 3 mai<br>
 <br>
 -
 6 et 7 juin<br>
 <br>
 <strong>Ces stages auront toujours lieu de 8h a
 18h (pause au temps de repas) au gymnase Lafontaine, situe rue de la
 Moselle a Laxou, a cote du college Lafontaine</strong></p>
URL;VALUE=URI:https://www.badminton54.com/evenements/2026/04/13/stage-jeune-avril-2026-2437822
END:VEVENT
END:VCALENDAR
